BEGIN:VCALENDAR
VERSION:2.0
PRODID:-//Cadence - ECPv6.15.20//NONSGML v1.0//EN
CALSCALE:GREGORIAN
METHOD:PUBLISH
X-ORIGINAL-URL:https://cadencenv.com
X-WR-CALDESC:Events for Cadence
REFRESH-INTERVAL;VALUE=DURATION:PT1H
X-Robots-Tag:noindex
X-PUBLISHED-TTL:PT1H
BEGIN:VTIMEZONE
TZID:America/Los_Angeles
BEGIN:DAYLIGHT
TZOFFSETFROM:-0800
TZOFFSETTO:-0700
TZNAME:PDT
DTSTART:20210314T100000
END:DAYLIGHT
BEGIN:STANDARD
TZOFFSETFROM:-0700
TZOFFSETTO:-0800
TZNAME:PST
DTSTART:20211107T090000
END:STANDARD
BEGIN:DAYLIGHT
TZOFFSETFROM:-0800
TZOFFSETTO:-0700
TZNAME:PDT
DTSTART:20220313T100000
END:DAYLIGHT
BEGIN:STANDARD
TZOFFSETFROM:-0700
TZOFFSETTO:-0800
TZNAME:PST
DTSTART:20221106T090000
END:STANDARD
BEGIN:DAYLIGHT
TZOFFSETFROM:-0800
TZOFFSETTO:-0700
TZNAME:PDT
DTSTART:20230312T100000
END:DAYLIGHT
BEGIN:STANDARD
TZOFFSETFROM:-0700
TZOFFSETTO:-0800
TZNAME:PST
DTSTART:20231105T090000
END:STANDARD
BEGIN:DAYLIGHT
TZOFFSETFROM:-0800
TZOFFSETTO:-0700
TZNAME:PDT
DTSTART:20240310T100000
END:DAYLIGHT
BEGIN:STANDARD
TZOFFSETFROM:-0700
TZOFFSETTO:-0800
TZNAME:PST
DTSTART:20241103T090000
END:STANDARD
BEGIN:DAYLIGHT
TZOFFSETFROM:-0800
TZOFFSETTO:-0700
TZNAME:PDT
DTSTART:20250309T100000
END:DAYLIGHT
BEGIN:STANDARD
TZOFFSETFROM:-0700
TZOFFSETTO:-0800
TZNAME:PST
DTSTART:20251102T090000
END:STANDARD
BEGIN:DAYLIGHT
TZOFFSETFROM:-0800
TZOFFSETTO:-0700
TZNAME:PDT
DTSTART:20260308T100000
END:DAYLIGHT
BEGIN:STANDARD
TZOFFSETFROM:-0700
TZOFFSETTO:-0800
TZNAME:PST
DTSTART:20261101T090000
END:STANDARD
END:VTIMEZONE
BEGIN:VTIMEZONE
TZID:UTC
BEGIN:STANDARD
TZOFFSETFROM:+0000
TZOFFSETTO:+0000
TZNAME:UTC
DTSTART:20200101T000000
END:STANDARD
END:VTIMEZONE
BEGIN:VEVENT
DTSTART;TZID=America/Los_Angeles:20250502T190000
DTEND;TZID=America/Los_Angeles:20250502T220000
DTSTAMP:20260422T020328
CREATED:20250317T184054Z
LAST-MODIFIED:20251014T194214Z
UID:10000012-1746212400-1746223200@cadencenv.com
SUMMARY:JAWS In Concert
DESCRIPTION:
URL:https://cadencenv.com/event/jaws-in-concert/
LOCATION:Central Park\, 1015 E. Sunset Road\, Henderson\, NV\, 89011\, United States
ATTACH;FMTTYPE=image/jpeg:https://cadencenv.com/wp-content/uploads/2025/03/Jaws-poster-JPEG-2-scaled.jpg
END:VEVENT
BEGIN:VEVENT
DTSTART;TZID=America/Los_Angeles:20241013T100000
DTEND;TZID=America/Los_Angeles:20241013T150000
DTSTAMP:20260422T020328
CREATED:20240501T154557Z
LAST-MODIFIED:20240926T164947Z
UID:10000010-1728813600-1728831600@cadencenv.com
SUMMARY:Cadence Car Show
DESCRIPTION:Save The Date \nJoin us for the Cadence Car Show on Sunday\, Oct. 13\, from 10 a.m. to 3 p.m. on Sunset Road along Central Park where more than 200 vehicles of various makes\, models and years will be available for viewing. Vehicle owners will be on hand to discuss their vehicles. \nIn addition to the vehicles\, there will be music\, food\, a beer garden and activities. Entry to the event is free with food from various food trucks available for purchase. \nFood trucks include: \nHapahaole’s Hawaiian Street Tacos\nGuido Pie\nHere’s the Beef\nLove Me Foods\nNattie’s Thai Kitchen\nWetzel’s Pretzels\nLV Kettle Corn\nTwisted Gelato\nMeowee Wowee\nHappy Baby Ice Cream\nLux Cheesecakes \nThose 21 and older\, can enjoy the beer garden.
URL:https://cadencenv.com/event/cadence-car-show-4/
LOCATION:Central Park\, 1015 E. Sunset Road\, Henderson\, NV\, 89011\, United States
ATTACH;FMTTYPE=image/jpeg:https://cadencenv.com/wp-content/uploads/2024/05/2024-Cadence-Car-Show-graphic_2.jpg
END:VEVENT
BEGIN:VEVENT
DTSTART;TZID=America/Los_Angeles:20231001T100000
DTEND;TZID=America/Los_Angeles:20231001T150000
DTSTAMP:20260422T020328
CREATED:20230504T225330Z
LAST-MODIFIED:20230927T195238Z
UID:10000009-1696154400-1696172400@cadencenv.com
SUMMARY:Cadence Car Show
DESCRIPTION:Save The Date \nJoin us for the Cadence Car Show on Sunday\, Oct. 1\, from 10 a.m. to 3 p.m. on Sunset Road along Central Park where nearly 200 vehicles of various makes\, models and years will be available for viewing. Vehicle owners will be on hand to discuss their vehicles. \nIn addition to the vehicles\, there will be music\, food\, a beer garden and activities. Entry to the event is free with food from various food trucks available for purchase. \nFood trucks include: \nWetzel’s Pretzels\nLove Me Foods\nMiddle Finger Foods\nMeowee Wowee\nLas Vegas Kettle Corn\nHapahaole’s Hawaiian Street Tacos\nNattie’s Thai Kitchen\nHappy Baby Ice Cream\nPinkbox Doughnuts \nThose 21 and older\, can enjoy the beer garden hosted by Bad Beat Brewing with brews available for purchase.
URL:https://cadencenv.com/event/cadence-car-show-3/
LOCATION:Central Park\, 1015 E. Sunset Road\, Henderson\, NV\, 89011\, United States
ATTACH;FMTTYPE=image/jpeg:https://cadencenv.com/wp-content/uploads/2023/05/Web-graphic-2-4.jpg
END:VEVENT
BEGIN:VEVENT
DTSTART;TZID=America/Los_Angeles:20221203T120000
DTEND;TZID=America/Los_Angeles:20221203T190000
DTSTAMP:20260422T020328
CREATED:20221115T194751Z
LAST-MODIFIED:20221115T194859Z
UID:10000008-1670068800-1670094000@cadencenv.com
SUMMARY:Cadence Holiday Bazaar
DESCRIPTION:Cadence is partnering with the Vegas Vikings Sons of Norway for the first-ever Cadence Holiday Bazaar. The event will be held Saturday\, Dec. 3 from noon to 7 pm at Central Park in Cadence. \nThe Sons of Norway\, from noon until 5 p.m. only\, will host a holiday and Nordic-themed gift tent with hundreds of ornaments\, decorations\, jewelry pieces\, cookbooks\, shirts\, and mugs available for sale at various price points with items sold first-come\, first-served. \nSons of Norway’s 30-foot Viking ship will be on-site for attendees to climb aboard and strike their best Viking pose\, and a Son’s of Norway volunteers will share Norse-kid friendly stories at select times throughout the day. \nAn excellent event for families\, the Cadence Holiday Bazaar will also feature photos with Santa (limited availability and first-come first-served from noon until 2 p.m.)\, photos and meet-and-greet opportunities with Elsa\, Olaf and the Grinch as they stroll around the event\, an opportunity to write and mail a letter to Santa\, outdoor games and activities\, and an evening under the stars viewing of the family favorite film “Frozen\,” which begins at 5 pm. \nLas Vegas Kettle Corn and Sweet Treats Emporium will sell treats throughout the day and adults 21-and-older can enjoy a selection of holiday-themed “adult beverages” for purchase from Constellation Catering. The event is also pet-friendly\, so leashed canine friends are welcome to attend. \n  \n 
URL:https://cadencenv.com/event/cadence-holiday-bazaar/
LOCATION:Central Park\, 1015 E. Sunset Road\, Henderson\, NV\, 89011\, United States
ATTACH;FMTTYPE=image/jpeg:https://cadencenv.com/wp-content/uploads/2022/11/Cadence-Holiday-Bazaar-graphic_FINAL.jpg
END:VEVENT
BEGIN:VEVENT
DTSTART;TZID=UTC:20221009T100000
DTEND;TZID=UTC:20221009T150000
DTSTAMP:20260422T020328
CREATED:20220427T161225Z
LAST-MODIFIED:20221003T185147Z
UID:10000007-1665309600-1665327600@cadencenv.com
SUMMARY:Cadence Car Show
DESCRIPTION:Join us for the Cadence Car Show on Sunday\, Oct. 9\, from 10 a.m. to 3 p.m. on Sunset Road along Central Park where nearly 200 vehicles of various makes\, models and years will be available for viewing. Vehicle owners will be on hand to discuss their vehicles. \nIn addition to the vehicles\, there will be music\, food\, a beer garden and activities. Entry to the event is free with food from various food trucks available for purchase. \nFood trucks include: \nGuido Pie\nPinkbox Doughnuts\nWetzel’s Pretzels\nThe Smokesman\nMeowee Wowee\nLas Vegas Kettle Corn\nHapahaole’s Hawaiian Street Tacos\nNattie’s Thai Kitchen\nSomethin’ To Taco ‘Bout \nThose 21 and older\, can enjoy the beer garden hosted by Bad Beat Brewing with two types of brews available for purchase. \nLeashed furry friends are also encouraged to attend the event. \n 
URL:https://cadencenv.com/event/cadence-car-show-2/
LOCATION:Central Park\, 1015 E. Sunset Road\, Henderson\, NV\, 89011\, United States
ATTACH;FMTTYPE=application/pdf:https://cadencenv.com/wp-content/uploads/2022/04/1_2022-Car-Show-Web-Graphic.pdf
END:VEVENT
BEGIN:VEVENT
DTSTART;TZID=UTC:20220513T200000
DTEND;TZID=UTC:20220513T213000
DTSTAMP:20260422T020328
CREATED:20220422T184859Z
LAST-MODIFIED:20220506T171901Z
UID:10000006-1652472000-1652477400@cadencenv.com
SUMMARY:"Summer Fest" with Henderson Symphony Orchestra on May 13
DESCRIPTION:“Summer Fest” with Henderson Symphony Orchestra \nCadence will host the Henderson Symphony Orchestra’s “Summer Fest” concert on Friday\, May 13\, at 8 p.m. \nThe performance\, held in Cadence Central Park\, 1125 E. Sunset Road\, will feature works by John Adams\, Kodaly and Kevin Puts as well as a special performance by soloist Carmela Cao. \nThe “Summer Fest” performance is free to attend\, and guests are encouraged to bring lawn chairs or blankets. Additional seating will be provided. \n  \nAbout the Henderson Symphony Orchestra \nThe Henderson Symphony Orchestra’s (HSO) mission is to promote classical music appreciation to a diverse audience\, through performance\, educational outreach\, and artistic collaborations. \nWe believe that classical music is for everyone and we welcome emerging artists\, seasoned professionals\, and lifelong learners from our diverse community to audition for our ensemble. We are committed to the creation of inclusive programs that provide opportunities and break down barriers between people and classical music. \nLed by Music Director Alexandra Arrieche\, the Henderson Symphony Orchestra is the Silver State’s only community symphony orchestra that has been performing for 35 seasons delivering on its mission to promote classical music appreciation and education to a varied and diverse audience\, and to contribute to the cultural community of Southern Nevada. With a long tradition of providing free concerts and events to residents throughout the Las Vegas Valley\, the HSO provides 11 concerts a year in a variety of venues. Today\, the HSO engages over 80 musicians in concert performances\, interactive Music 4Kids Concerts\, Young Artists Competition\, and HSO Conductor Camp. \n 
URL:https://cadencenv.com/event/hsosummerfest/
LOCATION:Central Park\, 1015 E. Sunset Road\, Henderson\, NV\, 89011\, United States
ATTACH;FMTTYPE=image/jpeg:https://cadencenv.com/wp-content/uploads/2022/04/1920x1080.jpg
END:VEVENT
BEGIN:VEVENT
DTSTART;TZID=UTC:20211010T100000
DTEND;TZID=UTC:20211010T150000
DTSTAMP:20260422T020328
CREATED:20210317T000305Z
LAST-MODIFIED:20211001T230506Z
UID:10000005-1633860000-1633878000@cadencenv.com
SUMMARY:Cadence Car Show
DESCRIPTION:Join us for the Cadence Car Show on Sunday\, Oct. 10\, from 10 a.m. to 3 p.m. on Sunset Road along Central Park where nearly 250 vehicles of various makes\, models and years will be available for viewing. Vehicle owners will be on hand to discuss their vehicles. \nIn addition to the vehicles\, there will be live music\, food\, a beer garden and activities. Entry to the event is free with food from various food trucks available for purchase. \nFood trucks include: \nGuido Pie\nIwalani’s Hawaiian Grill\nWetzel’s Pretzels\nThe Smokesman\nDapper Doughnut \nThose 21 and older\, can enjoy the beer garden hosted by Bad Beat Brewing with two types of brews available for purchase. \nLocal band\, The Fun Raisers\, will play live sets and attendees have the power to choose their song lineup throughout the event. \nLeashed furry friends are also encouraged to attend the event. A pet hydration station will be available for pups and their owners to sit back and relax. Representatives from the Cadence Animal Hospital will also be there to share more information about their services.
URL:https://cadencenv.com/event/cadence-car-show/
LOCATION:Central Park\, 1015 E. Sunset Road\, Henderson\, NV\, 89011\, United States
ATTACH;FMTTYPE=image/jpeg:https://cadencenv.com/wp-content/uploads/2021/03/Web-graphic.jpg
END:VEVENT
BEGIN:VEVENT
DTSTART;TZID=UTC:20210531T080000
DTEND;TZID=UTC:20210531T100000
DTSTAMP:20260422T020328
CREATED:20210212T112436Z
LAST-MODIFIED:20210519T223124Z
UID:10000004-1622448000-1622455200@cadencenv.com
SUMMARY:Memorial Day "Walk to Remember"
DESCRIPTION:Join us in Cadence’s Central Park on Memorial Day\, Monday\, May 31\, from 8 a.m. to 10 a.m. as we honor fallen soldiers this Memorial Day. Flags will be placed in Central Park with information of fallen soldiers. This is not a timed walk. Join us anytime between 8 a.m. and 10 a.m. as we pay tribute. \nThe event is free\, however\, registration is required. \nCDC guidelines on mask usage and social distancing will be in effect. \nRegister here \n 
URL:https://cadencenv.com/event/memorial-day-walk/
LOCATION:Central Park\, 1015 E. Sunset Road\, Henderson\, NV\, 89011\, United States
ATTACH;FMTTYPE=image/jpeg:https://cadencenv.com/wp-content/uploads/2021/02/2021-Walk-to-Rem-Logo4.jpg
END:VEVENT
END:VCALENDAR